{"text_format":"1","workbook":"xlsx","n_sheets":3,"sheets":["申込書","プログラム用","メンバー表"],"not_rendered":{"charts":0,"images":0,"macros":1,"external_links":1,"defined_names":1,"comments":1,"pivot_tables":0},"unopened":[],"bounds":{"document_bytes":16777216,"sheet_cells":100000,"rows_first":2000,"rows_last":500,"rows_between":2000,"halvings":0,"cell_chars":16384,"cell_head_chars":4096},"cells_cut":0,"cells_raw":0,"read":"whole","date_system":"1900"}

{"sheet":"申込書","index":0,"n_rows":50,"n_cols":25,"rows_kept":50,"cut":false,"hidden":false,"merged":[[0,7,0,12],[1,0,1,5],[1,7,1,23],[2,0,2,5],[2,7,2,23],[3,2,3,5],[0,18,0,23],[9,7,9,10],[9,11,9,16],[9,17,9,19],[9,20,9,23],[5,2,5,4],[5,11,5,14],[5,15,5,17],[5,18,5,22],[7,0,7,5],[7,7,7,23],[8,20,8,23],[8,17,8,19],[10,11,10,15],[10,16,10,20],[11,7,11,10],[11,11,11,15],[11,16,11,20],[11,21,11,23],[12,7,12,10],[12,11,12,15],[12,16,12,20],[12,21,12,23],[13,7,13,10],[13,11,13,15],[13,16,13,20],[13,21,13,23],[14,7,14,10],[14,11,14,15],[14,16,14,20],[14,21,14,23],[15,4,15,5],[15,7,15,10],[15,11,15,16],[15,17,15,18],[15,19,15,20],[15,21,15,23],[16,4,16,5],[16,7,16,10],[16,11,16,16],[16,17,16,18],[16,19,16,20],[16,21,16,23],[17,4,17,5],[17,7,17,10],[17,11,17,16],[17,17,17,18],[17,19,17,20],[17,21,17,23],[18,4,18,5],[18,7,18,10],[18,11,18,16],[18,17,18,18],[18,19,18,20],[18,21,18,23],[19,4,19,5],[19,7,19,10],[19,11,19,16],[19,17,19,18],[19,19,19,20],[19,21,19,23],[20,4,20,5],[20,7,20,10],[20,11,20,16],[20,17,20,18],[20,19,20,20],[20,21,20,23],[21,4,21,5],[21,7,21,10],[21,11,21,16],[21,17,21,18],[21,19,21,20],[21,21,21,23],[22,4,22,5],[22,7,22,10],[22,11,22,16],[22,17,22,18],[22,19,22,20],[22,21,22,23],[23,4,23,5],[23,7,23,10],[23,11,23,16],[23,17,23,18],[23,19,23,20],[23,21,23,23],[24,4,24,5],[24,7,24,10],[24,11,24,16],[24,17,24,18],[24,19,24,20],[24,21,24,23],[25,4,25,5],[25,7,25,10],[25,11,25,16],[25,17,25,18],[25,19,25,20],[25,21,25,23],[26,4,26,5],[26,7,26,10],[26,11,26,16],[26,17,26,18],[26,19,26,20],[26,21,26,23],[27,4,27,5],[27,7,27,10],[27,11,27,16],[27,17,27,18],[27,19,27,20],[27,21,27,23],[28,4,28,5],[28,7,28,10],[28,11,28,16],[28,17,28,18],[28,19,28,20],[28,21,28,23],[29,4,29,5],[29,7,29,10],[29,11,29,16],[29,17,29,18],[29,19,29,20],[29,21,29,23],[30,4,30,5],[30,7,30,10],[30,11,30,16],[30,17,30,18],[30,19,30,20],[30,21,30,23],[31,4,31,5],[31,7,31,10],[31,11,31,16],[31,17,31,18],[31,19,31,20],[31,21,31,23],[36,1,36,5],[36,7,36,10],[36,11,36,17],[36,18,36,23],[37,1,37,5],[37,7,37,10],[37,11,37,23],[34,4,34,5],[34,7,34,10],[34,11,34,16],[34,17,34,18],[34,19,34,20],[34,21,34,23],[35,4,35,5],[35,7,35,10],[35,11,35,16],[35,17,35,18],[35,19,35,20],[35,21,35,23],[42,12,42,14],[42,21,42,23],[44,7,47,7],[44,8,44,9],[44,10,44,14],[44,16,47,16],[44,17,44,18],[44,19,44,23],[39,7,42,7],[39,8,39,9],[39,10,39,14],[39,16,42,16],[39,17,39,18],[39,19,39,23],[40,8,40,9],[40,10,40,14],[40,17,40,18],[40,19,40,23],[41,8,42,9],[41,10,42,11],[41,12,41,14],[41,17,42,18],[41,19,42,20],[41,21,41,23],[49,7,49,19],[49,20,49,22],[50,7,50,20],[46,10,47,11],[46,12,46,14],[46,17,47,17],[46,18,47,18],[45,10,45,14],[45,19,45,23],[46,8,47,8],[46,9,47,9],[46,19,47,20],[46,21,46,23],[47,12,47,14],[47,21,47,23],[32,7,32,10],[32,11,32,16],[32,17,32,18],[32,19,32,20],[32,21,32,23],[33,7,33,10],[33,11,33,16],[33,17,33,18],[33,19,33,20],[33,21,33,23]]}
["（様式　２）",null,null,null,null,null,null,"（一社）長野県バスケットボール協会長様",null,null,null,null,null,null,null,null,null,null,"平成30年　月　日"]
[{"$f":"[1]チーム情報入力!C6","v":{"$error":"#REF!"}},null,null,null,null,null,null,"第49回　長野県中学校新人　バスケットボール選手権大会"]
["参加申込書",null,null,null,null,null,null,"申込書"]
[null,null,{"$f":"[1]チーム情報入力!F4","v":{"$error":"#REF!"}}]
[]
[null,{"$f":"[1]チーム情報入力!C10&\" 中学校長\"","v":{"$error":"#REF!"}},{"$f":"[1]チーム情報入力!C8","v":{"$error":"#REF!"}},null,null,"印",null,null,null,null,null,null,null,null,null,"中学校長",null,null,null,null,null,null,null,"印"]
[]
["下記の者は本校生徒であって，標記の大会に参加することを認めます。",null,null,null,null,null,null,"下記の者は本校生徒であって，標記の大会に参加することを認めます。"]
[null,null,null,"地区",null,"位",null,null,null,null,null,null,null,null,null,null,null,"学校電話番号"]
["学校名",{"$f":"[1]チーム情報入力!C10","v":{"$error":"#REF!"}},"中学校",null,{"$f":"[1]チーム情報入力!E10","v":{"$error":"#REF!"}},null,null,"学校名",null,null,null,null,null,null,null,null,null,"中学校",null,null,"男子　・　女子"]
[null,null,null,null,null,null,null,null,null,null,null,"氏名",null,null,null,null,"ふりがな"]
["引率責任者",{"$f":"[1]郡市大会申込書!F9","v":{"$error":"#REF!"}},null,null,{"$f":"[1]郡市大会申込書!H9","v":{"$error":"#REF!"}},null,null,"引率責任者",null,null,null,null,null,null,null,null,null,null,null,null,null,"（　校・教・指　）",null,null,"←校長・教員・部活動指導員　のうちいずれか"]
["コーチ",{"$f":"[1]郡市大会申込書!J9","v":{"$error":"#REF!"}},null,null,{"$f":"[1]郡市大会申込書!L9","v":{"$error":"#REF!"}},null,null,"コーチ",null,null,null,null,null,null,null,null,null,null,null,null,null,"（　校・教・指　）",null,null,"←校長・教員・部活動指導員　のうちいずれか"]
["Ａ・コーチ",{"$f":"[1]郡市大会申込書!C10","v":{"$error":"#REF!"}},null,null,{"$f":"[1]郡市大会申込書!F10","v":{"$error":"#REF!"}},null,null,"A・コーチ",null,null,null,null,null,null,null,null,null,null,null,null,null,"（　校・教・指・外　）",null,null,"←校長・教員・部活動指導員・外部指導員　のうちいずれか"]
["マネージャー",{"$f":"[1]郡市大会申込書!I10","v":{"$error":"#REF!"}},null,null,{"$f":"[1]郡市大会申込書!L10","v":{"$error":"#REF!"}},null,null,"マネージャー",null,null,null,null,null,null,null,null,null,null,null,null,null,"（　校・教・指・生　）",null,null,"←校長・教員・部活動指導員・生徒　のうちいずれか"]
["背番号","氏　　　　　　名","学年","身長","協会登録番号",null,null,"背番号",null,null,null,"氏名",null,null,null,null,null,"学年",null,"身長",null,"協会登録番号"]
[4,{"$f":"[1]選手情報入力!D4","v":{"$error":"#REF!"}},{"$f":"[1]選手情報入力!E4","v":{"$error":"#REF!"}},{"$f":"[1]選手情報入力!F4","v":{"$error":"#REF!"}},{"$f":"[1]選手情報入力!G4","v":{"$error":"#REF!"}},null,null,4,null,null,null,null,null,null,null,null,null,null,null,null,null,null,null,null,"←「協会登録番号」を入れる。"]
[5,{"$f":"[1]選手情報入力!D5","v":{"$error":"#REF!"}},{"$f":"[1]選手情報入力!E5","v":{"$error":"#REF!"}},{"$f":"[1]選手情報入力!F5","v":{"$error":"#REF!"}},{"$f":"[1]選手情報入力!G5","v":{"$error":"#REF!"}},null,null,5]
[6,{"$f":"[1]選手情報入力!D6","v":{"$error":"#REF!"}},{"$f":"[1]選手情報入力!E6","v":{"$error":"#REF!"}},{"$f":"[1]選手情報入力!F6","v":{"$error":"#REF!"}},{"$f":"[1]選手情報入力!G6","v":{"$error":"#REF!"}},null,null,6]
[7,{"$f":"[1]選手情報入力!D7","v":{"$error":"#REF!"}},{"$f":"[1]選手情報入力!E7","v":{"$error":"#REF!"}},{"$f":"[1]選手情報入力!F7","v":{"$error":"#REF!"}},{"$f":"[1]選手情報入力!G7","v":{"$error":"#REF!"}},null,null,7]
[8,{"$f":"[1]選手情報入力!D8","v":{"$error":"#REF!"}},{"$f":"[1]選手情報入力!E8","v":{"$error":"#REF!"}},{"$f":"[1]選手情報入力!F8","v":{"$error":"#REF!"}},{"$f":"[1]選手情報入力!G8","v":{"$error":"#REF!"}},null,null,8]
[9,{"$f":"[1]選手情報入力!D9","v":{"$error":"#REF!"}},{"$f":"[1]選手情報入力!E9","v":{"$error":"#REF!"}},{"$f":"[1]選手情報入力!F9","v":{"$error":"#REF!"}},{"$f":"[1]選手情報入力!G9","v":{"$error":"#REF!"}},null,null,9]
[10,{"$f":"[1]選手情報入力!D10","v":{"$error":"#REF!"}},{"$f":"[1]選手情報入力!E10","v":{"$error":"#REF!"}},{"$f":"[1]選手情報入力!F10","v":{"$error":"#REF!"}},{"$f":"[1]選手情報入力!G10","v":{"$error":"#REF!"}},null,null,10]
[11,{"$f":"[1]選手情報入力!D11","v":{"$error":"#REF!"}},{"$f":"[1]選手情報入力!E11","v":{"$error":"#REF!"}},{"$f":"[1]選手情報入力!F11","v":{"$error":"#REF!"}},{"$f":"[1]選手情報入力!G11","v":{"$error":"#REF!"}},null,null,11]
[12,{"$f":"[1]選手情報入力!D12","v":{"$error":"#REF!"}},{"$f":"[1]選手情報入力!E12","v":{"$error":"#REF!"}},{"$f":"[1]選手情報入力!F12","v":{"$error":"#REF!"}},{"$f":"[1]選手情報入力!G12","v":{"$error":"#REF!"}},null,null,12]
[13,{"$f":"[1]選手情報入力!D13","v":{"$error":"#REF!"}},{"$f":"[1]選手情報入力!E13","v":{"$error":"#REF!"}},{"$f":"[1]選手情報入力!F13","v":{"$error":"#REF!"}},{"$f":"[1]選手情報入力!G13","v":{"$error":"#REF!"}},null,null,13]
[14,{"$f":"[1]選手情報入力!D14","v":{"$error":"#REF!"}},{"$f":"[1]選手情報入力!E14","v":{"$error":"#REF!"}},{"$f":"[1]選手情報入力!F14","v":{"$error":"#REF!"}},{"$f":"[1]選手情報入力!G14","v":{"$error":"#REF!"}},null,null,14]
[15,{"$f":"[1]選手情報入力!D15","v":{"$error":"#REF!"}},{"$f":"[1]選手情報入力!E15","v":{"$error":"#REF!"}},{"$f":"[1]選手情報入力!F15","v":{"$error":"#REF!"}},{"$f":"[1]選手情報入力!G15","v":{"$error":"#REF!"}},null,null,15]
[16,{"$f":"[1]選手情報入力!D16","v":{"$error":"#REF!"}},{"$f":"[1]選手情報入力!E16","v":{"$error":"#REF!"}},{"$f":"[1]選手情報入力!F16","v":{"$error":"#REF!"}},{"$f":"[1]選手情報入力!G16","v":{"$error":"#REF!"}},null,null,16]
[17,{"$f":"[1]選手情報入力!D17","v":{"$error":"#REF!"}},{"$f":"[1]選手情報入力!E17","v":{"$error":"#REF!"}},{"$f":"[1]選手情報入力!F17","v":{"$error":"#REF!"}},{"$f":"[1]選手情報入力!G17","v":{"$error":"#REF!"}},null,null,17]
[18,{"$f":"[1]選手情報入力!D18","v":{"$error":"#REF!"}},{"$f":"[1]選手情報入力!E18","v":{"$error":"#REF!"}},{"$f":"[1]選手情報入力!F18","v":{"$error":"#REF!"}},{"$f":"[1]選手情報入力!G18","v":{"$error":"#REF!"}},null,null,18]
[19,{"$f":"[1]選手情報入力!D19","v":{"$error":"#REF!"}},{"$f":"[1]選手情報入力!E19","v":{"$error":"#REF!"}},{"$f":"[1]選手情報入力!F19","v":{"$error":"#REF!"}},{"$f":"[1]選手情報入力!G19","v":{"$error":"#REF!"}},null,null,19]
[null,null,null,null,null,null,null,20]
[null,null,null,null,null,null,null,21]
[20,{"$f":"[1]選手情報入力!D20","v":{"$error":"#REF!"}},{"$f":"[1]選手情報入力!E20","v":{"$error":"#REF!"}},{"$f":"[1]選手情報入力!F20","v":{"$error":"#REF!"}},{"$f":"[1]選手情報入力!G20","v":{"$error":"#REF!"}},null,null,22]
[21,{"$f":"[1]選手情報入力!D21","v":{"$error":"#REF!"}},{"$f":"[1]選手情報入力!E21","v":{"$error":"#REF!"}},{"$f":"[1]選手情報入力!F21","v":{"$error":"#REF!"}},{"$f":"[1]選手情報入力!G21","v":{"$error":"#REF!"}},null,null,23]
["帯同審判",{"$f":"[1]チーム情報入力!C24","v":{"$error":"#REF!"}},null,null,null,null,null,"帯同審判"]
["帯同コミッショナー",{"$f":"[1]チーム情報入力!C21","v":{"$error":"#REF!"}},null,null,null,null,null,"帯同コミッショナー"]
[]
[null,null,null,null,null,null,null,"引率責任者","携帯電話",null,null,null,null,null,null,null,"コーチ","携帯電話"]
[null,null,null,null,null,null,null,null,"校長・教員",null,"部活動指導員",null,null,null,null,null,null,"校長・教員",null,"部活動指導員"]
[null,null,null,null,null,null,null,null,null,null,null,null,"任命権者",null,null,null,null,null,null,null,null,"任命権者",null,null,"※校長・教員・部活動指導員・外部指導者・生徒　のいずれかの下スペースに○をつける"]
[null,null,null,null,null,null,null,null,null,null,null,null,{"$f":"IF(K42=\"\",\"\",#REF!)","v":""},null,null,null,null,null,null,null,null,{"$f":"IF(T42=\"\",\"\",#REF!)","v":""},null,null,"※部活動指導員の場合は任命権者「学校長」または「市町村教育委員会」を記入する"]
[]
[null,null,null,null,null,null,null,"Ａ・コーチ","携帯電話",null,null,null,null,null,null,null,"マネージャー","携帯電話"]
[null,null,null,null,null,null,null,null,"校長・教員","外部","部活動指導員",null,null,null,null,null,null,"校長・教員","生徒","部活動指導員"]
[null,null,null,null,null,null,null,null,null,null,null,null,"任命権者",null,null,null,null,null,null,null,null,"任命権者"]
[null,null,null,null,null,null,null,null,null,null,null,null,{"$f":"IF(K47=\"\",\"\",#REF!)","v":""},null,null,null,null,null,null,null,null,{"$f":"IF(T47=\"\",\"\",#REF!)","v":""}]
[]
[null,null,null,null,null,null,null,"県大会プログラム1部500円　エントリー選手は全員購入してください。購入数　→",null,null,null,null,null,null,null,null,null,null,null,null,null,null,null,"部"]

{"sheet":"プログラム用","index":1,"n_rows":31,"n_cols":4,"rows_kept":31,"cut":false,"hidden":false,"merged":[[10,2,10,3],[0,0,0,3],[3,0,3,3],[4,0,4,3],[7,2,7,3],[8,2,8,3],[9,2,9,3]]}
["プログラム用メンバー登録用紙"]
["◆申し込み大会名"]
["平成３０年度"]
[{"$f":"申込書!$H$2","v":"第49回　長野県中学校新人　バスケットボール選手権大会"}]
[{"$f":"申込書!$H$3","v":"申込書"}]
[]
["学校名",{"$f":"申込書!$L$10","v":0},"中学校","男・女"]
["引率責任者",{"$f":"申込書!L12","v":0},{"$f":"申込書!V12","v":"（　校・教・指　）"}]
["コーチ",{"$f":"申込書!L13","v":0},{"$f":"申込書!V13","v":"（　校・教・指　）"}]
["Ａ・コーチ",{"$f":"申込書!L14","v":0},{"$f":"申込書!V14","v":"（　校・教・指・外　）"}]
["マネージャー",{"$f":"申込書!L15","v":0},{"$f":"申込書!V15","v":"（　校・教・指・生　）"}]
[4,{"$f":"申込書!L17","v":0},{"$f":"申込書!R17","v":0},{"$f":"申込書!T17","v":0}]
[5,{"$f":"申込書!L18","v":0},{"$f":"申込書!R18","v":0},{"$f":"申込書!T18","v":0}]
[6,{"$f":"申込書!L19","v":0},{"$f":"申込書!R19","v":0},{"$f":"申込書!T19","v":0}]
[7,{"$f":"申込書!L20","v":0},{"$f":"申込書!R20","v":0},{"$f":"申込書!T20","v":0}]
[8,{"$f":"申込書!L21","v":0},{"$f":"申込書!R21","v":0},{"$f":"申込書!T21","v":0}]
[9,{"$f":"申込書!L22","v":0},{"$f":"申込書!R22","v":0},{"$f":"申込書!T22","v":0}]
[10,{"$f":"申込書!L23","v":0},{"$f":"申込書!R23","v":0},{"$f":"申込書!T23","v":0}]
[11,{"$f":"申込書!L24","v":0},{"$f":"申込書!R24","v":0},{"$f":"申込書!T24","v":0}]
[12,{"$f":"申込書!L25","v":0},{"$f":"申込書!R25","v":0},{"$f":"申込書!T25","v":0}]
[13,{"$f":"申込書!L26","v":0},{"$f":"申込書!R26","v":0},{"$f":"申込書!T26","v":0}]
[14,{"$f":"申込書!L27","v":0},{"$f":"申込書!R27","v":0},{"$f":"申込書!T27","v":0}]
[15,{"$f":"申込書!L28","v":0},{"$f":"申込書!R28","v":0},{"$f":"申込書!T28","v":0}]
[16,{"$f":"申込書!L29","v":0},{"$f":"申込書!R29","v":0},{"$f":"申込書!T29","v":0}]
[17,{"$f":"申込書!L30","v":0},{"$f":"申込書!R30","v":0},{"$f":"申込書!T30","v":0}]
[18,{"$f":"申込書!L31","v":0},{"$f":"申込書!R31","v":0},{"$f":"申込書!T31","v":0}]
[19,{"$f":"申込書!L32","v":0},{"$f":"申込書!R32","v":0},{"$f":"申込書!T32","v":0}]
[20,{"$f":"申込書!L33","v":0},{"$f":"申込書!R33","v":0},{"$f":"申込書!T33","v":0}]
[21,{"$f":"申込書!L34","v":0},{"$f":"申込書!R34","v":0},{"$f":"申込書!T34","v":0}]
[22,{"$f":"申込書!L35","v":0},{"$f":"申込書!R35","v":0},{"$f":"申込書!T35","v":0}]
[23,{"$f":"申込書!L36","v":0},{"$f":"申込書!R36","v":0},{"$f":"申込書!T36","v":0}]

{"sheet":"メンバー表","index":2,"n_rows":52,"n_cols":21,"rows_kept":52,"cut":false,"hidden":true,"merged":[[3,2,3,4],[4,2,4,4],[4,8,4,10],[2,2,2,4],[2,8,2,10],[3,8,3,10],[7,2,7,4],[8,2,8,4],[7,8,7,10],[8,8,8,10],[5,2,5,4],[6,2,6,4],[5,8,5,10],[6,8,6,10],[15,2,15,4],[10,2,10,4],[9,8,9,10],[10,8,10,10],[11,2,11,4],[12,2,12,4],[11,8,11,10],[12,8,12,10],[10,6,10,7],[5,20,5,22],[8,20,8,22],[22,0,22,1],[23,0,23,1],[22,2,22,4],[23,8,23,10],[16,8,16,10],[19,8,19,10],[10,14,10,16],[10,20,10,22],[9,14,9,16],[9,20,9,22],[9,18,9,19],[10,18,10,19],[14,20,14,22],[12,14,12,16],[11,14,11,16],[15,20,15,22],[15,14,15,16],[11,20,11,22],[12,20,12,22],[13,14,13,16],[13,8,13,10],[14,8,14,10],[20,18,20,19],[1,12,1,13],[1,14,1,16],[1,18,1,19],[1,20,1,22],[2,14,2,16],[8,14,8,16],[3,14,3,16],[7,14,7,16],[2,20,2,22],[7,20,7,22],[4,14,4,16],[5,14,5,16],[6,20,6,22],[6,14,6,16],[2,12,2,13],[3,12,3,13],[4,12,4,13],[5,12,5,13],[6,12,6,13],[7,12,7,13],[8,12,8,13],[3,20,3,22],[4,20,4,22],[29,14,29,16],[31,18,31,19],[21,18,21,19],[31,14,31,16],[13,20,13,22],[14,14,14,16],[19,20,19,22],[20,14,20,16],[20,20,20,22],[21,20,21,22],[16,20,16,22],[17,14,17,16],[17,20,17,22],[18,20,18,22],[18,14,18,16],[16,14,16,16],[19,14,19,16],[13,18,13,19],[14,18,14,19],[15,18,15,19],[16,18,16,19],[17,18,17,19],[18,18,18,19],[19,18,19,19],[31,12,31,13],[29,6,29,7],[30,6,30,7],[31,6,31,7],[34,14,34,16],[22,20,22,22],[21,14,21,16],[23,12,23,13],[23,14,23,16],[23,18,23,19],[23,20,23,22],[31,20,31,22],[28,12,28,13],[28,14,28,16],[28,18,28,19],[28,20,28,22],[24,12,24,13],[24,14,24,16],[24,18,24,19],[24,20,24,22],[29,20,29,22],[22,18,22,19],[22,12,22,13],[22,14,22,16],[34,20,34,22],[32,20,32,22],[33,2,33,4],[33,8,33,10],[33,14,33,16],[33,20,33,22],[34,6,34,7],[33,18,33,19],[34,18,34,19],[32,12,32,13],[33,12,33,13],[34,12,34,13],[32,6,32,7],[33,6,33,7],[32,18,32,19],[32,2,32,4],[32,8,32,10],[32,14,32,16],[36,14,36,16],[36,20,36,22],[35,2,35,4],[35,8,35,10],[35,14,35,16],[35,20,35,22],[36,18,36,19],[35,6,35,7],[35,18,35,19],[35,12,35,13],[36,12,36,13],[36,6,36,7],[38,20,38,22],[37,2,37,4],[37,8,37,10],[37,14,37,16],[37,20,37,22],[37,18,37,19],[38,18,38,19],[38,12,38,13],[37,12,37,13],[37,6,37,7],[38,6,38,7],[38,2,38,4],[40,20,40,22],[39,2,39,4],[39,8,39,10],[39,14,39,16],[39,20,39,22],[39,18,39,19],[40,18,40,19],[39,12,39,13],[40,12,40,13],[39,6,39,7],[40,6,40,7],[40,2,40,4],[42,20,42,22],[41,2,41,4],[41,8,41,10],[41,14,41,16],[41,20,41,22],[41,18,41,19],[42,18,42,19],[42,6,42,7],[41,12,41,13],[42,12,42,13],[41,6,41,7],[42,2,42,4],[44,20,44,22],[43,2,43,4],[43,8,43,10],[43,14,43,16],[43,20,43,22],[43,18,43,19],[44,18,44,19],[44,12,44,13],[43,12,43,13],[43,6,43,7],[44,2,44,4],[46,20,46,22],[45,2,45,4],[45,8,45,10],[45,14,45,16],[45,20,45,22],[45,18,45,19],[46,18,46,19],[45,12,45,13],[46,12,46,13],[46,6,46,7],[46,2,46,4],[48,20,48,22],[48,8,48,10],[48,2,48,4],[47,2,47,4],[47,8,47,10],[47,14,47,16],[47,20,47,22],[47,18,47,19],[48,18,48,19],[47,12,47,13],[48,12,48,13],[47,6,47,7],[48,6,48,7],[14,0,14,1],[15,0,15,1],[50,0,50,1],[50,2,50,4],[50,6,50,7],[50,12,50,13],[49,14,49,16],[49,18,49,19],[49,8,49,10],[49,0,49,1],[49,2,49,4],[49,6,49,7],[49,12,49,13],[48,14,48,16],[46,8,46,10],[46,14,46,16],[44,8,44,10],[44,14,44,16],[42,8,42,10],[42,14,42,16],[40,8,40,10],[40,14,40,16],[38,8,38,10],[38,14,38,16],[1,0,1,1],[1,2,1,4],[1,6,1,7],[1,8,1,10],[17,2,17,4],[18,2,18,4],[17,8,17,10],[18,8,18,10],[13,2,13,4],[14,2,14,4],[3,0,3,1],[2,0,2,1],[4,0,4,1],[5,0,5,1],[6,0,6,1],[7,0,7,1],[8,0,8,1],[9,0,9,1],[10,0,10,1],[11,0,11,1],[12,0,12,1],[13,0,13,1],[16,2,16,4],[9,2,9,4],[28,0,28,1],[28,2,28,4],[51,18,51,19],[51,20,51,22],[51,0,51,1],[51,2,51,4],[51,6,51,7],[28,6,28,7],[28,8,28,10],[50,14,50,16],[51,8,51,10],[51,12,51,13],[51,14,51,16],[30,14,30,16],[30,20,30,22],[29,2,29,4],[50,18,50,19],[50,20,50,22],[50,8,50,10],[49,20,49,22],[29,18,29,19],[30,18,30,19],[44,6,44,7],[45,6,45,7],[16,0,16,1],[17,0,17,1],[15,8,15,10],[18,0,18,1],[19,0,19,1],[20,0,20,1],[21,0,21,1],[2,6,2,7],[3,6,3,7],[4,6,4,7],[5,6,5,7],[6,6,6,7],[7,6,7,7],[8,6,8,7],[9,6,9,7],[11,6,11,7],[12,6,12,7],[13,6,13,7],[14,6,14,7],[15,6,15,7],[16,6,16,7],[17,6,17,7],[18,6,18,7],[19,6,19,7],[24,0,24,1],[24,6,24,7],[22,6,22,7],[23,6,23,7],[21,8,21,10],[22,8,22,10],[2,18,2,19],[3,18,3,19],[4,18,4,19],[5,18,5,19],[6,18,6,19],[7,18,7,19],[8,18,8,19],[11,18,11,19],[12,18,12,19],[9,12,9,13],[10,12,10,13],[11,12,11,13],[12,12,12,13],[13,12,13,13],[14,12,14,13],[15,12,15,13],[16,12,16,13],[17,12,17,13],[18,12,18,13],[19,12,19,13],[20,12,20,13],[21,12,21,13],[20,6,20,7],[36,2,36,4],[36,8,36,10],[34,2,34,4],[34,8,34,10],[29,8,29,10],[31,2,31,4],[31,8,31,10],[21,6,21,7],[24,2,24,4],[23,2,23,4],[19,2,19,4],[21,2,21,4],[20,2,20,4],[24,8,24,10],[20,8,20,10],[30,2,30,4],[30,8,30,10],[29,12,29,13],[30,12,30,13],[47,0,47,1],[48,0,48,1],[38,0,38,1],[39,0,39,1],[40,0,40,1],[41,0,41,1],[42,0,42,1],[29,0,29,1],[30,0,30,1],[31,0,31,1],[32,0,32,1],[33,0,33,1],[34,0,34,1],[35,0,35,1],[36,0,36,1],[44,0,44,1],[37,0,37,1],[43,0,43,1],[45,0,45,1],[46,0,46,1]]}
[]
[{"$f":"#REF!","v":{"$error":"#REF!"}},null,"中学校",null,null,null,{"$f":"#REF!","v":{"$error":"#REF!"}},null,"中学校",null,null,null,{"$f":"#REF!","v":{"$error":"#REF!"}},null,"中学校",null,null,null,{"$f":"#REF!","v":{"$error":"#REF!"}},null,"中学校"]
["引率責任者",null,{"$f":"#REF!","v":{"$error":"#REF!"}},null,null,null,"引率責任者",null,{"$f":"#REF!","v":{"$error":"#REF!"}},null,null,null,"引率責任者",null,{"$f":"#REF!","v":{"$error":"#REF!"}},null,null,null,"引率責任者",null,{"$f":"#REF!","v":{"$error":"#REF!"}}]
["No",null,"氏　　　　　　　名",null,null,null,"No",null,"氏　　　　　　　名",null,null,null,"No",null,"氏　　　　　　　名",null,null,null,"No",null,"氏　　　　　　　名"]
[4,null,{"$f":"#REF!","v":{"$error":"#REF!"}},null,null,null,4,null,{"$f":"#REF!","v":{"$error":"#REF!"}},null,null,null,4,null,{"$f":"#REF!","v":{"$error":"#REF!"}},null,null,null,4,null,{"$f":"#REF!","v":{"$error":"#REF!"}}]
[5,5,{"$f":"#REF!","v":{"$error":"#REF!"}},null,null,null,5,5,{"$f":"#REF!","v":{"$error":"#REF!"}},null,null,null,5,5,{"$f":"#REF!","v":{"$error":"#REF!"}},null,null,null,5,5,{"$f":"#REF!","v":{"$error":"#REF!"}}]
[6,6,{"$f":"#REF!","v":{"$error":"#REF!"}},null,null,null,6,6,{"$f":"#REF!","v":{"$error":"#REF!"}},null,null,null,6,6,{"$f":"#REF!","v":{"$error":"#REF!"}},null,null,null,6,6,{"$f":"#REF!","v":{"$error":"#REF!"}}]
[7,7,{"$f":"#REF!","v":{"$error":"#REF!"}},null,null,null,7,7,{"$f":"#REF!","v":{"$error":"#REF!"}},null,null,null,7,7,{"$f":"#REF!","v":{"$error":"#REF!"}},null,null,null,7,7,{"$f":"#REF!","v":{"$error":"#REF!"}}]
[8,8,{"$f":"#REF!","v":{"$error":"#REF!"}},null,null,null,8,8,{"$f":"#REF!","v":{"$error":"#REF!"}},null,null,null,8,8,{"$f":"#REF!","v":{"$error":"#REF!"}},null,null,null,8,8,{"$f":"#REF!","v":{"$error":"#REF!"}}]
[9,9,{"$f":"#REF!","v":{"$error":"#REF!"}},null,null,null,9,9,{"$f":"#REF!","v":{"$error":"#REF!"}},null,null,null,9,9,{"$f":"#REF!","v":{"$error":"#REF!"}},null,null,null,9,9,{"$f":"#REF!","v":{"$error":"#REF!"}}]
[10,10,{"$f":"#REF!","v":{"$error":"#REF!"}},null,null,null,10,10,{"$f":"#REF!","v":{"$error":"#REF!"}},null,null,null,10,10,{"$f":"#REF!","v":{"$error":"#REF!"}},null,null,null,10,10,{"$f":"#REF!","v":{"$error":"#REF!"}}]
[11,11,{"$f":"#REF!","v":{"$error":"#REF!"}},null,null,null,11,11,{"$f":"#REF!","v":{"$error":"#REF!"}},null,null,null,11,11,{"$f":"#REF!","v":{"$error":"#REF!"}},null,null,null,11,11,{"$f":"#REF!","v":{"$error":"#REF!"}}]
[12,12,{"$f":"#REF!","v":{"$error":"#REF!"}},null,null,null,12,12,{"$f":"#REF!","v":{"$error":"#REF!"}},null,null,null,12,12,{"$f":"#REF!","v":{"$error":"#REF!"}},null,null,null,12,12,{"$f":"#REF!","v":{"$error":"#REF!"}}]
[13,13,{"$f":"#REF!","v":{"$error":"#REF!"}},null,null,null,13,13,{"$f":"#REF!","v":{"$error":"#REF!"}},null,null,null,13,13,{"$f":"#REF!","v":{"$error":"#REF!"}},null,null,null,13,13,{"$f":"#REF!","v":{"$error":"#REF!"}}]
[14,14,{"$f":"#REF!","v":{"$error":"#REF!"}},null,null,null,14,14,{"$f":"#REF!","v":{"$error":"#REF!"}},null,null,null,14,14,{"$f":"#REF!","v":{"$error":"#REF!"}},null,null,null,14,14,{"$f":"#REF!","v":{"$error":"#REF!"}}]
[15,15,{"$f":"#REF!","v":{"$error":"#REF!"}},null,null,null,15,15,{"$f":"#REF!","v":{"$error":"#REF!"}},null,null,null,15,15,{"$f":"#REF!","v":{"$error":"#REF!"}},null,null,null,15,15,{"$f":"#REF!","v":{"$error":"#REF!"}}]
[16,16,{"$f":"#REF!","v":{"$error":"#REF!"}},null,null,null,16,16,{"$f":"#REF!","v":{"$error":"#REF!"}},null,null,null,16,16,{"$f":"#REF!","v":{"$error":"#REF!"}},null,null,null,16,16,{"$f":"#REF!","v":{"$error":"#REF!"}}]
[17,17,{"$f":"#REF!","v":{"$error":"#REF!"}},null,null,null,17,17,{"$f":"#REF!","v":{"$error":"#REF!"}},null,null,null,17,17,{"$f":"#REF!","v":{"$error":"#REF!"}},null,null,null,17,17,{"$f":"#REF!","v":{"$error":"#REF!"}}]
[18,18,{"$f":"#REF!","v":{"$error":"#REF!"}},null,null,null,18,18,{"$f":"#REF!","v":{"$error":"#REF!"}},null,null,null,18,18,{"$f":"#REF!","v":{"$error":"#REF!"}},null,null,null,18,18,{"$f":"#REF!","v":{"$error":"#REF!"}}]
[19,19,{"$f":"#REF!","v":{"$error":"#REF!"}},null,null,null,19,19,{"$f":"#REF!","v":{"$error":"#REF!"}},null,null,null,19,19,{"$f":"#REF!","v":{"$error":"#REF!"}},null,null,null,19,19,{"$f":"#REF!","v":{"$error":"#REF!"}}]
[20,20,{"$f":"#REF!","v":{"$error":"#REF!"}},null,null,null,20,20,{"$f":"#REF!","v":{"$error":"#REF!"}},null,null,null,20,20,{"$f":"#REF!","v":{"$error":"#REF!"}},null,null,null,20,20,{"$f":"#REF!","v":{"$error":"#REF!"}}]
[21,21,{"$f":"#REF!","v":{"$error":"#REF!"}},null,null,null,21,21,{"$f":"#REF!","v":{"$error":"#REF!"}},null,null,null,21,21,{"$f":"#REF!","v":{"$error":"#REF!"}},null,null,null,21,21,{"$f":"#REF!","v":{"$error":"#REF!"}}]
["コーチ",null,{"$f":"#REF!","v":{"$error":"#REF!"}},null,null,null,"コーチ",null,{"$f":"#REF!","v":{"$error":"#REF!"}},null,null,null,"コーチ",null,{"$f":"#REF!","v":{"$error":"#REF!"}},null,null,null,"コーチ",null,{"$f":"#REF!","v":{"$error":"#REF!"}}]
["A・コーチ",null,{"$f":"#REF!","v":{"$error":"#REF!"}},null,null,null,"A・コーチ",null,{"$f":"#REF!","v":{"$error":"#REF!"}},null,null,null,"A・コーチ",null,{"$f":"#REF!","v":{"$error":"#REF!"}},null,null,null,"A・コーチ",null,{"$f":"#REF!","v":{"$error":"#REF!"}}]
["マネージャー",null,{"$f":"#REF!","v":{"$error":"#REF!"}},null,null,null,"マネージャー",null,{"$f":"#REF!","v":{"$error":"#REF!"}},null,null,null,"マネージャー",null,{"$f":"#REF!","v":{"$error":"#REF!"}},null,null,null,"マネージャー",null,{"$f":"#REF!","v":{"$error":"#REF!"}}]
[]
[]
[]
[{"$f":"#REF!","v":{"$error":"#REF!"}},null,"中学校",null,null,null,{"$f":"#REF!","v":{"$error":"#REF!"}},null,"中学校",null,null,null,{"$f":"#REF!","v":{"$error":"#REF!"}},null,"中学校",null,null,null,{"$f":"#REF!","v":{"$error":"#REF!"}},null,"中学校"]
["引率責任者",null,{"$f":"#REF!","v":{"$error":"#REF!"}},null,null,null,"引率責任者",null,{"$f":"#REF!","v":{"$error":"#REF!"}},null,null,null,"引率責任者",null,{"$f":"#REF!","v":{"$error":"#REF!"}},null,null,null,"引率責任者",null,{"$f":"#REF!","v":{"$error":"#REF!"}}]
["No",null,"氏　　　　　　　名",null,null,null,"No",null,"氏　　　　　　　名",null,null,null,"No",null,"氏　　　　　　　名",null,null,null,"No",null,"氏　　　　　　　名"]
[4,null,{"$f":"#REF!","v":{"$error":"#REF!"}},null,null,null,4,null,{"$f":"#REF!","v":{"$error":"#REF!"}},null,null,null,4,null,{"$f":"#REF!","v":{"$error":"#REF!"}},null,null,null,4,null,{"$f":"#REF!","v":{"$error":"#REF!"}}]
[5,5,{"$f":"#REF!","v":{"$error":"#REF!"}},null,null,null,5,5,{"$f":"#REF!","v":{"$error":"#REF!"}},null,null,null,5,5,{"$f":"#REF!","v":{"$error":"#REF!"}},null,null,null,5,5,{"$f":"#REF!","v":{"$error":"#REF!"}}]
[6,6,{"$f":"#REF!","v":{"$error":"#REF!"}},null,null,null,6,6,{"$f":"#REF!","v":{"$error":"#REF!"}},null,null,null,6,6,{"$f":"#REF!","v":{"$error":"#REF!"}},null,null,null,6,6,{"$f":"#REF!","v":{"$error":"#REF!"}}]
[7,7,{"$f":"#REF!","v":{"$error":"#REF!"}},null,null,null,7,7,{"$f":"#REF!","v":{"$error":"#REF!"}},null,null,null,7,7,{"$f":"#REF!","v":{"$error":"#REF!"}},null,null,null,7,7,{"$f":"#REF!","v":{"$error":"#REF!"}}]
[8,8,{"$f":"#REF!","v":{"$error":"#REF!"}},null,null,null,8,8,{"$f":"#REF!","v":{"$error":"#REF!"}},null,null,null,8,8,{"$f":"#REF!","v":{"$error":"#REF!"}},null,null,null,8,8,{"$f":"#REF!","v":{"$error":"#REF!"}}]
[9,9,{"$f":"#REF!","v":{"$error":"#REF!"}},null,null,null,9,9,{"$f":"#REF!","v":{"$error":"#REF!"}},null,null,null,9,9,{"$f":"#REF!","v":{"$error":"#REF!"}},null,null,null,9,9,{"$f":"#REF!","v":{"$error":"#REF!"}}]
[10,10,{"$f":"#REF!","v":{"$error":"#REF!"}},null,null,null,10,10,{"$f":"#REF!","v":{"$error":"#REF!"}},null,null,null,10,10,{"$f":"#REF!","v":{"$error":"#REF!"}},null,null,null,10,10,{"$f":"#REF!","v":{"$error":"#REF!"}}]
[11,11,{"$f":"#REF!","v":{"$error":"#REF!"}},null,null,null,11,11,{"$f":"#REF!","v":{"$error":"#REF!"}},null,null,null,11,11,{"$f":"#REF!","v":{"$error":"#REF!"}},null,null,null,11,11,{"$f":"#REF!","v":{"$error":"#REF!"}}]
[12,12,{"$f":"#REF!","v":{"$error":"#REF!"}},null,null,null,12,12,{"$f":"#REF!","v":{"$error":"#REF!"}},null,null,null,12,12,{"$f":"#REF!","v":{"$error":"#REF!"}},null,null,null,12,12,{"$f":"#REF!","v":{"$error":"#REF!"}}]
[13,13,{"$f":"#REF!","v":{"$error":"#REF!"}},null,null,null,13,13,{"$f":"#REF!","v":{"$error":"#REF!"}},null,null,null,13,13,{"$f":"#REF!","v":{"$error":"#REF!"}},null,null,null,13,13,{"$f":"#REF!","v":{"$error":"#REF!"}}]
[14,14,{"$f":"#REF!","v":{"$error":"#REF!"}},null,null,null,14,14,{"$f":"#REF!","v":{"$error":"#REF!"}},null,null,null,14,14,{"$f":"#REF!","v":{"$error":"#REF!"}},null,null,null,14,14,{"$f":"#REF!","v":{"$error":"#REF!"}}]
[15,15,{"$f":"#REF!","v":{"$error":"#REF!"}},null,null,null,15,15,{"$f":"#REF!","v":{"$error":"#REF!"}},null,null,null,15,15,{"$f":"#REF!","v":{"$error":"#REF!"}},null,null,null,15,15,{"$f":"#REF!","v":{"$error":"#REF!"}}]
[16,16,{"$f":"#REF!","v":{"$error":"#REF!"}},null,null,null,16,16,{"$f":"#REF!","v":{"$error":"#REF!"}},null,null,null,16,16,{"$f":"#REF!","v":{"$error":"#REF!"}},null,null,null,16,16,{"$f":"#REF!","v":{"$error":"#REF!"}}]
[17,17,{"$f":"#REF!","v":{"$error":"#REF!"}},null,null,null,17,17,{"$f":"#REF!","v":{"$error":"#REF!"}},null,null,null,17,17,{"$f":"#REF!","v":{"$error":"#REF!"}},null,null,null,17,17,{"$f":"#REF!","v":{"$error":"#REF!"}}]
[18,18,{"$f":"#REF!","v":{"$error":"#REF!"}},null,null,null,18,18,{"$f":"#REF!","v":{"$error":"#REF!"}},null,null,null,18,18,{"$f":"#REF!","v":{"$error":"#REF!"}},null,null,null,18,18,{"$f":"#REF!","v":{"$error":"#REF!"}}]
[19,19,{"$f":"#REF!","v":{"$error":"#REF!"}},null,null,null,19,19,{"$f":"#REF!","v":{"$error":"#REF!"}},null,null,null,19,19,{"$f":"#REF!","v":{"$error":"#REF!"}},null,null,null,19,19,{"$f":"#REF!","v":{"$error":"#REF!"}}]
[20,20,{"$f":"#REF!","v":{"$error":"#REF!"}},null,null,null,20,20,{"$f":"#REF!","v":{"$error":"#REF!"}},null,null,null,20,20,{"$f":"#REF!","v":{"$error":"#REF!"}},null,null,null,20,20,{"$f":"#REF!","v":{"$error":"#REF!"}}]
[21,21,{"$f":"#REF!","v":{"$error":"#REF!"}},null,null,null,21,21,{"$f":"#REF!","v":{"$error":"#REF!"}},null,null,null,21,21,{"$f":"#REF!","v":{"$error":"#REF!"}},null,null,null,21,21,{"$f":"#REF!","v":{"$error":"#REF!"}}]
["コーチ",null,{"$f":"#REF!","v":{"$error":"#REF!"}},null,null,null,"コーチ",null,{"$f":"#REF!","v":{"$error":"#REF!"}},null,null,null,"コーチ",null,{"$f":"#REF!","v":{"$error":"#REF!"}},null,null,null,"コーチ",null,{"$f":"#REF!","v":{"$error":"#REF!"}}]
["A・コーチ",null,{"$f":"#REF!","v":{"$error":"#REF!"}},null,null,null,"A・コーチ",null,{"$f":"#REF!","v":{"$error":"#REF!"}},null,null,null,"A・コーチ",null,{"$f":"#REF!","v":{"$error":"#REF!"}},null,null,null,"A・コーチ",null,{"$f":"#REF!","v":{"$error":"#REF!"}}]
["マネージャー",null,{"$f":"#REF!","v":{"$error":"#REF!"}},null,null,null,"マネージャー",null,{"$f":"#REF!","v":{"$error":"#REF!"}},null,null,null,"マネージャー",null,{"$f":"#REF!","v":{"$error":"#REF!"}},null,null,null,"マネージャー",null,{"$f":"#REF!","v":{"$error":"#REF!"}}]